BEGIN:VCALENDAR
VERSION:2.0
PRODID:-//ChamberMaster//Event Calendar 2.0//EN
METHOD:PUBLISH
X-PUBLISHED-TTL:P3D
REFRESH-INTERVAL:P3D
CALSCALE:GREGORIAN
BEGIN:VEVENT
DTSTART:20230121T190000Z
DTEND:20230121T210000Z
X-MICROSOFT-CDO-ALLDAYEVENT:FALSE
SUMMARY:Seed Starting
DESCRIPTION:Learn how to choose good seeds\, how to store seeds\, containers for starting seeds\, media for starting seeds\, and techniques for starting\, germination\, and getting new plants ready for planting. Brought to you by NPL Seed Exchange and Master Gardeners of Davidson County.
X-ALT-DESC;FMTTYPE=text/html:Learn how to choose good seeds\, how to store seeds\, containers for starting seeds\, media for starting seeds\, and techniques for starting\, germination\, and getting new plants ready for planting. Brought to you by NPL Seed Exchange and Master Gardeners of Davidson County.
LOCATION:Bellevue Branch Library 720 Baugh Road
UID:e.2107.9609
SEQUENCE:3
DTSTAMP:20260424T054109Z
URL:http://bellevueharpethchamber.chambermaster.com/events/details/seed-starting-9609
END:VEVENT

END:VCALENDAR
