BEGIN:VCALENDAR
VERSION:2.0
PRODID:-//ChamberMaster//Event Calendar 2.0//EN
METHOD:PUBLISH
X-PUBLISHED-TTL:P3D
REFRESH-INTERVAL:P3D
CALSCALE:GREGORIAN
BEGIN:VEVENT
DTSTART:20230408T153000Z
DTEND:20230408T190000Z
X-MICROSOFT-CDO-ALLDAYEVENT:FALSE
SUMMARY:Easter Egg Bash
DESCRIPTION:Hoppy Spring!\n\nWe are preparing for our Easter Egg Bash that takes place on April 8th from 10:30AM - 2:00PM\, and YOU are invited! Bring an empty stomach\, Easter basket\, and competitive spirit! RSVP to the concierge desk by April 1st with the guest count at 615.649.6525.
X-ALT-DESC;FMTTYPE=text/html:<p>Hoppy Spring!</p>\n\n<p>We are preparing for our Easter Egg Bash that takes place on April 8th from 10:30AM - 2:00PM\, and YOU&nbsp\;are invited! Bring an empty stomach\, Easter basket\, and competitive spirit! RSVP to the concierge desk by April 1st with the&nbsp\;guest count&nbsp\;at 615.649.6525.</p>\n
LOCATION:
UID:e.2107.9759
SEQUENCE:3
DTSTAMP:20260420T014913Z
URL:http://bellevueharpethchamber.chambermaster.com/events/details/easter-egg-bash-9759
END:VEVENT

END:VCALENDAR
